BEGIN:VCALENDAR
VERSION:2.0
PRODID:-//ChamberMaster//Event Calendar 2.0//EN
METHOD:PUBLISH
X-PUBLISHED-TTL:P3D
REFRESH-INTERVAL:P3D
CALSCALE:GREGORIAN
BEGIN:VEVENT
DTSTART:20160930T223000Z
DTEND:20161001T013000Z
X-MICROSOFT-CDO-ALLDAYEVENT:FALSE
SUMMARY:Keefe Kares Annual Celebration
DESCRIPTION:A CELEBRATION FOR THE COMMUNITY Please join Keefe Kares for an evening of food\, fun\, festivities\, and giving back to our community. Location: Walworth County Fair Activity Center The 2nd year of an annual event hosted by Keefe Kares to help raise funds and awarness for the non-profit organizations we support in our local community. This year's event includes a Pig Roast\, Cash Bar (beer & wine)\, Live & Silent Auction\, Raffle Prizes\, and Live Music!
X-ALT-DESC;FMTTYPE=text/html:A CELEBRATION FOR THE COMMUNITY Please join Keefe Kares for an evening of food\, fun\, festivities\, and giving back to our community. Location: Walworth County Fair Activity Center The 2nd year of an annual event hosted by Keefe Kares to help raise funds and awarness for the non-profit organizations we support in our local community. This year&#39\;s event includes a Pig Roast\, Cash Bar (beer &amp\; wine)\, Live &amp\; Silent Auction\, Raffle Prizes\, and Live Music!
LOCATION:Walworth County Fairgrounds Activity Center Elkhorn\, WI
UID:e.2059.4537
SEQUENCE:3
DTSTAMP:20260423T191329Z
URL:https://business.elkhornchamber.com/events/details/keefe-kares-annual-celebration-4537
END:VEVENT

END:VCALENDAR
