BEGIN:VCALENDAR
VERSION:2.0
PRODID:-//ChamberMaster//Event Calendar 2.0//EN
METHOD:PUBLISH
X-PUBLISHED-TTL:P3D
REFRESH-INTERVAL:P3D
CALSCALE:GREGORIAN
BEGIN:VEVENT
DTSTART:20150502T140000Z
DTEND:20150502T230000Z
X-MICROSOFT-CDO-ALLDAYEVENT:FALSE
SUMMARY:Just Between Friends Walworth Rock Spring/Summer Sale
DESCRIPTION:North America's leading children's and maternity consignment sales event. We have everything you need to raise a child at 50-90% off retail prices.
X-ALT-DESC;FMTTYPE=text/html:North America&#39\;s leading children&#39\;s and maternity consignment sales event. We have everything you need to raise a child at 50-90% off retail prices.
LOCATION:Walworth County Fairgrounds North Hall Bldg. 411 E. Court St.\, Elkhorn
UID:e.2059.526
SEQUENCE:3
DTSTAMP:20260424T211712Z
URL:https://business.elkhornchamber.com/events/details/just-between-friends-walworth-rock-spring-summer-sale-05-02-2015-526
END:VEVENT

END:VCALENDAR
