BEGIN:VCALENDAR
VERSION:2.0
PRODID:-//ChamberMaster//Event Calendar 2.0//EN
METHOD:PUBLISH
X-PUBLISHED-TTL:P3D
REFRESH-INTERVAL:P3D
CALSCALE:GREGORIAN
BEGIN:VEVENT
DTSTART:20151121T150000Z
DTEND:20151123T010000Z
X-MICROSOFT-CDO-ALLDAYEVENT:FALSE
SUMMARY:Just Between Friends Sale
DESCRIPTION:Shop unbelievable deals on the boutique and brand names you know and love!\n\nSell your items as a consignor and earn up to 70%! Details and sign up online!\n\nSave as much as 50-90% OFF RETAIL! Save time as it's all here under one roof!\n\nSmart! Make and save money with the Leading Children's Sales Event!\n\nWhatever you do\, don't miss this shopping extravaganza!\n\nSunday is the HALF-PRICE SALE!
X-ALT-DESC;FMTTYPE=text/html:<strong>Shop</strong> unbelievable deals on the boutique and brand names you know and love!<br />\n<strong>Sell</strong> your items as a consignor and earn up to 70%! Details and sign up online!<br />\n<strong>Save</strong> as much as 50-90% OFF RETAIL! Save time as it&#39\;s all here under one roof!<br />\n<strong>Smart!</strong> Make and save money with the Leading Children&#39\;s Sales Event!<br />\nWhatever you do\, don&#39\;t miss this shopping extravaganza!<br />\n<strong>Sunday is the HALF-PRICE SALE!</strong>
LOCATION:Walworth County Fairgrounds Activity Center 411 E. Court St\, Elkhorn WI
UID:e.2059.1832
SEQUENCE:3
DTSTAMP:20260424T124125Z
URL:https://business.elkhornchamber.com/events/details/just-between-friends-sale-11-21-2015-1832
END:VEVENT

END:VCALENDAR
