BEGIN:VCALENDAR
VERSION:2.0
PRODID:-//ChamberMaster//Event Calendar 2.0//EN
METHOD:PUBLISH
X-PUBLISHED-TTL:P3D
REFRESH-INTERVAL:P3D
CALSCALE:GREGORIAN
BEGIN:VEVENT
DTSTART:20170520T140000Z
DTEND:20170520T190000Z
X-MICROSOFT-CDO-ALLDAYEVENT:FALSE
SUMMARY:Junk in the Trunk
DESCRIPTION:Millard Community Covenant Church is searching for Vendor's to come and sell their wares at this fun "open air" rummage sale!\n\nYou can sell whatever you want out of your car trunk!\n\nThe cost to be a Vendor is $15 per "Car Space" in the parking lot.\n\nDon't Forget to come out and Shop! We'll be open rain or shine!
X-ALT-DESC;FMTTYPE=text/html:<p>Millard Community Covenant Church is searching for Vendor&#39\;s to come and sell their wares at this fun &quot\;open air&quot\; rummage sale!<br />\nYou can sell whatever you want out of your car trunk!<br />\nThe cost to be a Vendor is $15 per &quot\;Car Space&quot\; in the parking lot.<br />\nDon&#39\;t Forget to come out and Shop! We&#39\;ll be open rain or shine!</p>\n
LOCATION:Millard Community Covenant Church N6713 County Road O Elkhorn\, WI Corner of Hwy O and Hwy A
UID:e.2059.5053
SEQUENCE:3
DTSTAMP:20260423T055437Z
URL:https://business.elkhornchamber.com/events/details/junk-in-the-trunk-5053
END:VEVENT

END:VCALENDAR
