BEGIN:VCALENDAR
VERSION:2.0
PRODID:-//ChamberMaster//Event Calendar 2.0//EN
METHOD:PUBLISH
X-PUBLISHED-TTL:P3D
REFRESH-INTERVAL:P3D
CALSCALE:GREGORIAN
BEGIN:VEVENT
DTSTART:20160521T140000Z
DTEND:20160521T200000Z
X-MICROSOFT-CDO-ALLDAYEVENT:FALSE
SUMMARY:Junk In The Trunk
DESCRIPTION:Come join us as we sell our "Junk"! Vendors will be set-up in our parking lot\, and will sell crafts\, re-purposed items\, and "thrifting" treasures! Event held rain or shine. (If you're interested in being a vendor\, contact Dave at 262-903-4828. $15/per car space.)
X-ALT-DESC;FMTTYPE=text/html:Come join us as we sell our &quot\;Junk&quot\;! Vendors will be set-up in our parking lot\, and will sell crafts\, re-purposed items\, and &quot\;thrifting&quot\; treasures! Event held rain or shine. (If you&#39\;re interested in being a vendor\, contact Dave at 262-903-4828. $15/per car space.)
LOCATION:Millard Community Covenant Church (N6713 County Road O\, Elkhorn)
UID:e.2059.3413
SEQUENCE:3
DTSTAMP:20260424T011900Z
URL:https://business.elkhornchamber.com/events/details/junk-in-the-trunk-05-21-2016-3413
END:VEVENT

END:VCALENDAR
