BEGIN:VCALENDAR
VERSION:2.0
PRODID:-//ChamberMaster//Event Calendar 2.0//EN
METHOD:PUBLISH
X-PUBLISHED-TTL:P3D
REFRESH-INTERVAL:P3D
CALSCALE:GREGORIAN
BEGIN:VEVENT
DTSTART:20170521T003000Z
DTEND:20170521T023000Z
X-MICROSOFT-CDO-ALLDAYEVENT:FALSE
SUMMARY:Joseph and the Amazing Technicolor Dreamcoat
DESCRIPTION:Lakeland Players Ltd. Presents Joseph and the Amazing Technicolor Dreamcoat!\n\nMusic by :\n\nAndrew Lloyd Webber\n\nLyrics by:\n\nTim Rice\n\nDirector:\n\nDavid Whitney\n\nMusical Director:\n\nAmerleigh Cellak\n\nProducer:\n\nBeth Sukala\n\nChoreographers:\n\nDavid Whitney & Pauline Urso
X-ALT-DESC;FMTTYPE=text/html:Lakeland Players Ltd. Presents Joseph and the Amazing Technicolor Dreamcoat!<br />\nMusic by :<br />\nAndrew Lloyd Webber<br />\nLyrics by:<br />\nTim Rice<br />\nDirector:<br />\nDavid Whitney<br />\nMusical Director:<br />\nAmerleigh Cellak<br />\nProducer:<br />\nBeth Sukala<br />\nChoreographers:<br />\nDavid Whitney &amp\; Pauline Urso<br />\n&nbsp\;
LOCATION:Walworth County Performing Arts Center 15 W. Walworth Street Elkhorn\, Wi 53121
UID:e.2059.4771
SEQUENCE:3
DTSTAMP:20260423T060955Z
URL:https://business.elkhornchamber.com/events/details/josesp-and-the-amazing-technicolor-dreamcoat-05-20-2017-4771
END:VEVENT

END:VCALENDAR
