BEGIN:VCALENDAR
VERSION:2.0
PRODID:-//ChamberMaster//Event Calendar 2.0//EN
METHOD:PUBLISH
X-PUBLISHED-TTL:P3D
REFRESH-INTERVAL:P3D
CALSCALE:GREGORIAN
BEGIN:VEVENT
DTSTART:20151026T000000Z
DTEND:20151026T023000Z
X-MICROSOFT-CDO-ALLDAYEVENT:FALSE
SUMMARY:Joseph & The Amazing Technicolor Dreamcoat
DESCRIPTION:One of the most enduring shows of all time\, Joseph & The Amazing Technicolor Dreamcoat is the irresistible Tony  award-winning family musical about the trials and triumphs of Joseph\, Israel?s favorite son. The first collaboration of composer Andrew Lloyd Webber and lyricist Tim Rice\, Joseph blends pop\, country and rock into an uplifting\, technicolored story of biblical proportions. This touring Broadway production retells the Biblical story of Joseph\, his eleven brothers\, and the coat of many colors. This magical musical is full of unforgettable songs including "Those Canaan Days\," "Any Dream Will Do\," and "Close Every Door."
X-ALT-DESC;FMTTYPE=text/html:One of the most enduring shows of all time\, Joseph &amp\; The Amazing Technicolor Dreamcoat is the irresistible Tony&reg\; award-winning family musical about the trials and triumphs of Joseph\, Israel?s favorite son. The first collaboration of composer Andrew Lloyd Webber and lyricist Tim Rice\, Joseph blends pop\, country and rock into an uplifting\, technicolored story of biblical proportions. This touring Broadway production retells the Biblical story of Joseph\, his eleven brothers\, and the coat of many colors. This magical musical is full of unforgettable songs including &quot\;Those Canaan Days\,&quot\; &quot\;Any Dream Will Do\,&quot\; and &quot\;Close Every Door.&quot\;
LOCATION:Young Auditorium - 930 West Main Street\, Whitewater
UID:e.2059.1653
SEQUENCE:3
DTSTAMP:20260424T124018Z
URL:https://business.elkhornchamber.com/events/details/joseph-the-amazing-technicolor-dreamcoat-10-25-2015-1653
END:VEVENT

END:VCALENDAR
