BEGIN:VCALENDAR
VERSION:2.0
PRODID:-//ChamberMaster//Event Calendar 2.0//EN
METHOD:PUBLISH
X-PUBLISHED-TTL:P3D
REFRESH-INTERVAL:P3D
CALSCALE:GREGORIAN
BEGIN:VEVENT
DTSTART:20151019T140000Z
DTEND:20151019T160000Z
X-MICROSOFT-CDO-ALLDAYEVENT:FALSE
SUMMARY:Job Fair Preparation Workshop
DESCRIPTION:Learn employability skills and how to prepare before attending a job fair.
X-ALT-DESC;FMTTYPE=text/html:Learn employability skills and how to prepare before attending a job fair.
LOCATION:Workshops will be held in the Job Center Classroom. Walworth County Job Center 400 County Road NN Elkhorn
UID:e.2059.1727
SEQUENCE:3
DTSTAMP:20260424T141520Z
URL:https://business.elkhornchamber.com/events/details/job-fair-preparation-workshop-10-19-2015-1727
END:VEVENT

END:VCALENDAR
