BEGIN:VCALENDAR
VERSION:2.0
PRODID:-//ChamberMaster//Event Calendar 2.0//EN
METHOD:PUBLISH
X-PUBLISHED-TTL:P3D
REFRESH-INTERVAL:P3D
CALSCALE:GREGORIAN
BEGIN:VEVENT
DTSTART:20191121T210000Z
DTEND:20191121T220000Z
X-MICROSOFT-CDO-ALLDAYEVENT:FALSE
SUMMARY:Jim Gibbons Speaks about the Life of Lincoln
DESCRIPTION:Jim Gibbons speaks about the Life of Lincoln at the Heritage Hall
X-ALT-DESC;FMTTYPE=text/html:Jim Gibbons speaks about the Life of Lincoln at the Heritage Hall&nbsp\;
LOCATION:Heritage Hall at the Walworth County Historical Society Building
UID:e.2059.10742
SEQUENCE:3
DTSTAMP:20260420T055859Z
URL:https://business.elkhornchamber.com/events/details/jim-gibbons-speaks-about-the-life-of-lincoln-10742
END:VEVENT

END:VCALENDAR
