BEGIN:VCALENDAR
VERSION:2.0
PRODID:-//ChamberMaster//Event Calendar 2.0//EN
METHOD:PUBLISH
X-PUBLISHED-TTL:P3D
REFRESH-INTERVAL:P3D
CALSCALE:GREGORIAN
BEGIN:VEVENT
DTSTART:20191017T200000Z
DTEND:20191017T210000Z
X-MICROSOFT-CDO-ALLDAYEVENT:FALSE
SUMMARY:JIm Gibbons speaks about Margaret Thatcher
DESCRIPTION:Jib Gibbons speaking about Margaret Thatcher at Heritage Hall
X-ALT-DESC;FMTTYPE=text/html:Jib Gibbons speaking about Margaret Thatcher at Heritage Hall
LOCATION:Heritage Hall at Walworth County Historical Society Building
UID:e.2059.10740
SEQUENCE:3
DTSTAMP:20260421T041944Z
URL:https://business.elkhornchamber.com/events/details/jim-gibbons-speaks-about-margaret-thatcher-10740
END:VEVENT

END:VCALENDAR
