BEGIN:VCALENDAR
VERSION:2.0
PRODID:-//ChamberMaster//Event Calendar 2.0//EN
METHOD:PUBLISH
X-PUBLISHED-TTL:P3D
REFRESH-INTERVAL:P3D
CALSCALE:GREGORIAN
BEGIN:VEVENT
DTSTART;VALUE=DATE:20180915
DTEND;VALUE=DATE:20180917
TRANSP:TRANSPARENT
X-MICROSOFT-CDO-ALLDAYEVENT:TRUE
SUMMARY:Jericho Productions Open Horse Show
DESCRIPTION:Jericho Productions Open Horse Show at the Walworth County fairgrounds.
X-ALT-DESC;FMTTYPE=text/html:Jericho Productions Open Horse Show at the Walworth County fairgrounds.&nbsp\;
LOCATION:Walworth County Fairgrounds 411 E. Court St Elkhorn\, Wi
UID:e.2059.8913
SEQUENCE:3
DTSTAMP:20260422T021313Z
URL:https://business.elkhornchamber.com/events/details/jericho-productions-open-horse-show-8913
END:VEVENT

END:VCALENDAR
