BEGIN:VCALENDAR
VERSION:2.0
PRODID:-//ChamberMaster//Event Calendar 2.0//EN
METHOD:PUBLISH
X-PUBLISHED-TTL:P3D
REFRESH-INTERVAL:P3D
CALSCALE:GREGORIAN
BEGIN:VEVENT
DTSTART:20170828T220000Z
DTEND:20170828T233000Z
X-MICROSOFT-CDO-ALLDAYEVENT:FALSE
SUMMARY:Jackson & West Side Elementary Open House
DESCRIPTION:
X-ALT-DESC;FMTTYPE=text/html:
LOCATION:
UID:e.2059.5499
SEQUENCE:3
DTSTAMP:20260422T232846Z
URL:https://business.elkhornchamber.com/events/details/jackson-west-side-elementary-open-house-5499
END:VEVENT

END:VCALENDAR
