BEGIN:VCALENDAR
VERSION:2.0
PRODID:-//ChamberMaster//Event Calendar 2.0//EN
METHOD:PUBLISH
X-PUBLISHED-TTL:P3D
REFRESH-INTERVAL:P3D
CALSCALE:GREGORIAN
BEGIN:VEVENT
DTSTART:20160206T003000Z
DTEND:20160206T013000Z
X-MICROSOFT-CDO-ALLDAYEVENT:FALSE
SUMMARY:Jack & The Beanstalk (Florentine Opera)
DESCRIPTION:Fee-fi-fo-fum! It?s the opera you can enjoy in your PJs! Children are encouraged to wear their pajamas and snuggle in for a fairytale of operatic proportions. Jack and the Beanstalk tells the classic tale of a young boy who sells the family cow to a mysterious stranger for a handful of magic beans. Presented by the Florentine Opera Company\, hilarity and adventure ensue as the cast learns the importance of being kind to others. Adapted and written by John Davies\, this operatic version is based on scenes from the operettas of Gilbert and Sullivan. The opera is sung in English. The show is set to last about an hour\, and seating is right on the auditorium stage. Children will have the opportunity ask the performers questions after the show and tour the set. The Florentine Opera Company is Wisconsin?s oldest fully professional performing arts organization and the sixth oldest opera company in the United States.
X-ALT-DESC;FMTTYPE=text/html:Fee-fi-fo-fum! It?s the opera you can enjoy in your PJs! Children are encouraged to wear their pajamas and snuggle in for a fairytale of operatic proportions. Jack and the Beanstalk tells the classic tale of a young boy who sells the family cow to a mysterious stranger for a handful of magic beans. Presented by the Florentine Opera Company\, hilarity and adventure ensue as the cast learns the importance of being kind to others. Adapted and written by John Davies\, this operatic version is based on scenes from the operettas of Gilbert and Sullivan. The opera is sung in English. The show is set to last about an hour\, and seating is right on the auditorium stage. Children will have the opportunity ask the performers questions after the show and tour the set. The Florentine Opera Company is Wisconsin?s oldest fully professional performing arts organization and the sixth oldest opera company in the United States.
LOCATION:Young Auditorium - 930 West Main Street\, Whitewater
UID:e.2059.1660
SEQUENCE:3
DTSTAMP:20260424T064449Z
URL:https://business.elkhornchamber.com/events/details/jack-the-beanstalk-florentine-opera-02-05-2016-1660
END:VEVENT

END:VCALENDAR
