BEGIN:VCALENDAR
VERSION:2.0
PRODID:-//ChamberMaster//Event Calendar 2.0//EN
METHOD:PUBLISH
X-PUBLISHED-TTL:P3D
REFRESH-INTERVAL:P3D
CALSCALE:GREGORIAN
BEGIN:VEVENT
DTSTART:20171202T230000Z
DTEND:20171203T230000Z
X-MICROSOFT-CDO-ALLDAYEVENT:FALSE
SUMMARY:Italian Holiday Celebration~ Buon Natale!
DESCRIPTION:Buon Natale!\n\n Please join us for an ...Italian Holiday Celebration!\n\nHeld in the historic Clausing Barn at Old World Wisconsin. Your all inclusive reservation includes:\n\nMuseum Admission. 4-course meal. beverages. tips. Entertainment. Italian Traditions & Decorations. Partially tax-deduct able\n\nEnjoy Tradizione Vivente_ The Italian Dance Group of Milwaukee\, as they perform Italian dances in authentic costumes.
X-ALT-DESC;FMTTYPE=text/html:Buon Natale!<br />\n&nbsp\;Please join us for an ...Italian Holiday Celebration!<br />\nHeld in the historic Clausing Barn at Old World Wisconsin. Your all inclusive reservation includes:<br />\nMuseum Admission. 4-course meal. beverages. tips. Entertainment. Italian Traditions &amp\; Decorations. Partially tax-deduct able<br />\nEnjoy Tradizione Vivente_ The Italian Dance Group of Milwaukee\, as they perform Italian dances in authentic costumes.
LOCATION:Held in the historic Clausing Barn at Old World Wisconsin 229 E. Main St\, Eagle\, Wi
UID:e.2059.7309
SEQUENCE:3
DTSTAMP:20260422T164946Z
URL:https://business.elkhornchamber.com/events/details/italian-holiday-celebration-buon-natale-7309
END:VEVENT

END:VCALENDAR
