BEGIN:VCALENDAR
VERSION:2.0
PRODID:-//ChamberMaster//Event Calendar 2.0//EN
METHOD:PUBLISH
X-PUBLISHED-TTL:P3D
REFRESH-INTERVAL:P3D
CALSCALE:GREGORIAN
BEGIN:VEVENT
DTSTART:20160625T150000Z
DTEND:20160625T150000Z
X-MICROSOFT-CDO-ALLDAYEVENT:FALSE
SUMMARY:Injury Prevention & Performance Enhancement for Runners
DESCRIPTION:This hands-on seminar will address injury prevention and performance enhancement\, applying the most current evidence-based knowledge to help you perform at your best! The seminar will last about two hours and include:\n\n	Flexibility\n	Foam Roller exercises\n	Stability training\n	Improve running efficiency\n	Nutrition for performance and  recovery\n	Prevention & Treatment of Common Running injuries including\n	\n		IT Band Syndrome\n		Shin Splints\n		Knee Pain\n		Plantar Fasciitis\n		Low back Pain\n	\n	\n\nTo Register: Please email Dr. Kyle Berlin at berlin@uwalumni.com and let us know that you are joining us. You may also call us at the clinic at 723-3235. Sign up early as space is limited to the first 25 participants.\n\n\n\n** The first 10 registrants will receive a FREE Foam Roller at the seminar. We look forward to seeing you!
X-ALT-DESC;FMTTYPE=text/html:This hands-on seminar will address injury prevention and performance enhancement\, applying the most current evidence-based knowledge to help you perform at your best! The seminar will last about two hours and include:\n<ul>\n	<li>Flexibility</li>\n	<li>Foam Roller exercises</li>\n	<li>Stability training</li>\n	<li>Improve running efficiency</li>\n	<li>Nutrition for performance and&nbsp\; recovery</li>\n	<li>Prevention &amp\; Treatment of Common Running injuries including\n	<ul>\n		<li>IT Band Syndrome</li>\n		<li>Shin Splints</li>\n		<li>Knee Pain</li>\n		<li>Plantar Fasciitis</li>\n		<li>Low back Pain</li>\n	</ul>\n	</li>\n</ul>\nTo Register: Please email Dr. Kyle Berlin at berlin@uwalumni.com and let us know that you are joining us. You may also call us at the clinic at 723-3235. Sign up early as space is limited to the first 25 participants.<br />\n<br />\n<strong>** The first 10 registrants will receive a FREE Foam Roller at the seminar. We look forward to seeing you!</strong>
LOCATION:United Chiropractic Sports & Rehabilitation 422 N. Wisconsin St Elkhorn\, WI 53121 (Across from Lakeland Bakery)
UID:e.2059.3466
SEQUENCE:3
DTSTAMP:20260423T235028Z
URL:https://business.elkhornchamber.com/events/details/injury-prevention-performance-enhancement-for-runners-06-25-2016-3466
END:VEVENT

END:VCALENDAR
