BEGIN:VCALENDAR
VERSION:2.0
PRODID:-//ChamberMaster//Event Calendar 2.0//EN
METHOD:PUBLISH
X-PUBLISHED-TTL:P3D
REFRESH-INTERVAL:P3D
CALSCALE:GREGORIAN
BEGIN:VEVENT
DTSTART:20160315T230000Z
DTEND:20160316T003000Z
X-MICROSOFT-CDO-ALLDAYEVENT:FALSE
SUMMARY:Infant CPR & Safety for Family and Friends
DESCRIPTION:This is non-certification course. Information presented during this class includes:\n\nSafe Sleep\, SIDS reduction strategies\n\nInfant and child safety tips\, prevention of accidents and/or  injuries\n\nSafely Tips to prevent child drowning\n\nHow to petyorm CPR
X-ALT-DESC;FMTTYPE=text/html:This is non-certification course. Information presented during this class includes:<br />\nSafe Sleep\, SIDS reduction strategies<br />\nInfant and child safety tips\, prevention of accidents and/or&nbsp\; injuries<br />\nSafely Tips to prevent child drowning<br />\nHow to petyorm CPR
LOCATION:Aurora Wellness Center Classroom C 300 McCanna Parkway Burlington\, WI
UID:e.2059.2921
SEQUENCE:3
DTSTAMP:20260424T050853Z
URL:https://business.elkhornchamber.com/events/details/infant-cpr-safety-for-family-and-friends-03-15-2016-2921
END:VEVENT

END:VCALENDAR
