BEGIN:VCALENDAR
VERSION:2.0
PRODID:-//ChamberMaster//Event Calendar 2.0//EN
METHOD:PUBLISH
X-PUBLISHED-TTL:P3D
REFRESH-INTERVAL:P3D
CALSCALE:GREGORIAN
BEGIN:VEVENT
DTSTART:20160616T233000Z
DTEND:20160616T233000Z
X-MICROSOFT-CDO-ALLDAYEVENT:FALSE
SUMMARY:Ice Cream Social Party
DESCRIPTION:Themed Thursday:\n\nIce Cream Social at Sunset Pool in Elkhorn. Buy one admission\, ages 12 and up\, get one free day pass ALL DAY!
X-ALT-DESC;FMTTYPE=text/html:Themed Thursday:<br />\nIce Cream Social at Sunset Pool in Elkhorn. Buy one admission\, ages 12 and up\, get one free day pass ALL DAY!
LOCATION:Sunset Pool Located on Devendorfst\, West Centrailia St & Park Avenue Elkhorn Recreation Center
UID:e.2059.3508
SEQUENCE:3
DTSTAMP:20260423T234912Z
URL:https://business.elkhornchamber.com/events/details/ice-cream-social-party-06-16-2016-3508
END:VEVENT

END:VCALENDAR
