BEGIN:VCALENDAR
VERSION:2.0
PRODID:-//ChamberMaster//Event Calendar 2.0//EN
METHOD:PUBLISH
X-PUBLISHED-TTL:P3D
REFRESH-INTERVAL:P3D
CALSCALE:GREGORIAN
BEGIN:VEVENT
DTSTART:20180720T230000Z
DTEND:20180721T000000Z
X-MICROSOFT-CDO-ALLDAYEVENT:FALSE
SUMMARY:Ice Cream Social
DESCRIPTION:Ice cream social at Sunset Pool on July 20th\, August 3rd\, and August 17th from 6-7PM. Event if free with $3 admission to the pool on these Family Fun Fridays. Movies in the Park to follow on all three days.
X-ALT-DESC;FMTTYPE=text/html:Ice cream social at Sunset Pool on July 20th\, August 3rd\, and August 17th from 6-7PM. Event if free with $3 admission to the pool on these Family Fun Fridays. Movies in the Park to follow on all three days.&nbsp\;
LOCATION:320 Devendorf Street\, Elkhorn\, WI 53121
UID:e.2059.9027
SEQUENCE:3
DTSTAMP:20260422T053953Z
URL:https://business.elkhornchamber.com/events/details/ice-cream-social-9027
END:VEVENT

END:VCALENDAR
