BEGIN:VCALENDAR
VERSION:2.0
PRODID:-//ChamberMaster//Event Calendar 2.0//EN
METHOD:PUBLISH
X-PUBLISHED-TTL:P3D
REFRESH-INTERVAL:P3D
CALSCALE:GREGORIAN
BEGIN:VEVENT
DTSTART:20190629T153000Z
DTEND:20190629T170000Z
X-MICROSOFT-CDO-ALLDAYEVENT:FALSE
SUMMARY:I Survived Party
DESCRIPTION:Are you a fan of the I Survived books? Come to our party and test out some disastrous activities. Create your own volcano\, fake a shark attack\, make an earthquake\, and more!
X-ALT-DESC;FMTTYPE=text/html:<span style="color:rgb(0\, 0\, 0)\; font-family:arial\; font-size:14.6667px">Are you a fan of the I Survived books? Come to our party and test out some disastrous activities. Create your own volcano\, fake a shark attack\, make an earthquake\, and more!</span>
LOCATION:Matheson Memorial Library
UID:e.2059.10885
SEQUENCE:3
DTSTAMP:20260421T032559Z
URL:https://business.elkhornchamber.com/events/details/i-survived-party-06-29-2019-10885
END:VEVENT

END:VCALENDAR
