BEGIN:VCALENDAR
VERSION:2.0
PRODID:-//ChamberMaster//Event Calendar 2.0//EN
METHOD:PUBLISH
X-PUBLISHED-TTL:P3D
REFRESH-INTERVAL:P3D
CALSCALE:GREGORIAN
BEGIN:VEVENT
DTSTART:20171018T233000Z
DTEND:20171019T010000Z
X-MICROSOFT-CDO-ALLDAYEVENT:FALSE
SUMMARY:Hunting the World's Scariest Monsters
DESCRIPTION:Grab your silver bullets\, sharpen your stakes\, and get ready to hunt the most terrifying monsters from around the world! Author and paranormal adventurer Chad Lewis returns to Elkhorn with a hair-raising account of his travels around the world in search of creatures from folklore\, including vampires\, werewolves\, wraiths\, and other horrifying beasts! Chad will also have copies of his paranoral adventure books for sale\, and will be more than willing to sign them for you!
X-ALT-DESC;FMTTYPE=text/html:<span style="color:rgb(0\, 0\, 0)\; font-family:arial\; font-size:12px">Grab your silver bullets\, sharpen your stakes\, and get ready to hunt the most terrifying monsters from around the world! Author and paranormal adventurer Chad Lewis returns to Elkhorn with a hair-raising account of his travels around the world in search of creatures from folklore\, including vampires\, werewolves\, wraiths\, and other horrifying beasts! Chad will also have copies of his paranoral adventure books for sale\, and will be more than willing to sign them for you!</span>
LOCATION:Matheson Memorial Library
UID:e.2059.6073
SEQUENCE:3
DTSTAMP:20260422T201406Z
URL:https://business.elkhornchamber.com/events/details/hunting-the-world-s-scariest-monsters-6073
END:VEVENT

END:VCALENDAR
