BEGIN:VCALENDAR
VERSION:2.0
PRODID:-//ChamberMaster//Event Calendar 2.0//EN
METHOD:PUBLISH
X-PUBLISHED-TTL:P3D
REFRESH-INTERVAL:P3D
CALSCALE:GREGORIAN
BEGIN:VEVENT
DTSTART:20151107T140000Z
DTEND:20151107T213000Z
X-MICROSOFT-CDO-ALLDAYEVENT:FALSE
SUMMARY:Hunter Sight-in Day
DESCRIPTION:Southern Lakes Evangelical Free Church is hosting its annual Hunter Sight-in Day. All are invited to the church property to sight in their firearms for the upcoming deer season. The use of the shooting range\, shooting rests\, spotting scopes\, safety glasses\, ear plugs and targets are all free\, as are bore sighting\, snacks and a hot lunch! Just bring your firearms and ammunition and your appetite. The church is located 2 miles north of Elkhorn (  mile north of Abell's Corners) on US Hwy 12.
X-ALT-DESC;FMTTYPE=text/html:Southern Lakes Evangelical Free Church is hosting its annual Hunter Sight-in Day. All are invited to the church property to sight in their firearms for the upcoming deer season. The use of the shooting range\, shooting rests\, spotting scopes\, safety glasses\, ear plugs and targets are all free\, as are bore sighting\, snacks and a hot lunch! Just bring your firearms and ammunition and your appetite. The church is located 2 miles north of Elkhorn (&frac12\; mile north of Abell&#39\;s Corners) on US Hwy 12.
LOCATION:Southern Lakes Evangelical Free Church N6686 US Hwy 12 Elkhorn\, WI 53121
UID:e.2059.1734
SEQUENCE:3
DTSTAMP:20260424T111902Z
URL:https://business.elkhornchamber.com/events/details/hunter-sight-in-day-11-07-2015-1734
END:VEVENT

END:VCALENDAR
