BEGIN:VCALENDAR
VERSION:2.0
PRODID:-//ChamberMaster//Event Calendar 2.0//EN
METHOD:PUBLISH
X-PUBLISHED-TTL:P3D
REFRESH-INTERVAL:P3D
CALSCALE:GREGORIAN
BEGIN:VEVENT
DTSTART:20181103T130000Z
DTEND:20181103T203000Z
X-MICROSOFT-CDO-ALLDAYEVENT:FALSE
SUMMARY:Hunter Sight-in Day
DESCRIPTION:Southern Lakes Church will host its annual Hunter Sight-in Day on Saturday\, November 3\, between 8:00 a.m. and 3:30 p.m. All are invited to the church property to sight in their firearms for the upcoming deer season. The use of the shooting range\, shooting rests\, spotting scopes\, safety glasses\, ear plugs and targets are all free\, as are bore sighting\, snacks and a hot lunch! Just bring your firearms and ammunition and your appetite. The church is located 2 miles north of Elkhorn (  mile north of Abell's Corners) on US Hwy 12.
X-ALT-DESC;FMTTYPE=text/html:Southern Lakes Church will host its annual Hunter Sight-in Day on Saturday\, November 3\, between 8:00 a.m. and 3:30 p.m. All are invited to the church property to sight in their firearms for the upcoming deer season. The use of the shooting range\, shooting rests\, spotting scopes\, safety glasses\, ear plugs and targets are all free\, as are bore sighting\, snacks and a hot lunch! Just bring your firearms and ammunition and your appetite. The church is located 2 miles north of Elkhorn (&frac12\; mile north of Abell&#39\;s Corners) on US Hwy 12.
LOCATION:N6686 US Hwy 12 Elkhorn\, WI 53121
UID:e.2059.9525
SEQUENCE:3
DTSTAMP:20260421T223341Z
URL:https://business.elkhornchamber.com/events/details/hunter-sight-in-day-11-03-2018-9525
END:VEVENT

END:VCALENDAR
