BEGIN:VCALENDAR
VERSION:2.0
PRODID:-//ChamberMaster//Event Calendar 2.0//EN
METHOD:PUBLISH
X-PUBLISHED-TTL:P3D
REFRESH-INTERVAL:P3D
CALSCALE:GREGORIAN
BEGIN:VEVENT
DTSTART:20150820T230000Z
DTEND:20150821T030000Z
X-MICROSOFT-CDO-ALLDAYEVENT:FALSE
SUMMARY:Hunt Club August Wine Dinner
DESCRIPTION:Five-course wine and steak dinner
X-ALT-DESC;FMTTYPE=text/html:Five-course wine and steak dinner
LOCATION:Geneva National's Hunt Club Steakhouse
UID:e.2059.1648
SEQUENCE:3
DTSTAMP:20260424T161149Z
URL:https://business.elkhornchamber.com/events/details/hunt-club-august-wine-dinner-08-20-2015-1648
END:VEVENT

END:VCALENDAR
