BEGIN:VCALENDAR
VERSION:2.0
PRODID:-//ChamberMaster//Event Calendar 2.0//EN
METHOD:PUBLISH
X-PUBLISHED-TTL:P3D
REFRESH-INTERVAL:P3D
CALSCALE:GREGORIAN
BEGIN:VEVENT
DTSTART:20170121T163000Z
DTEND:20170121T173000Z
X-MICROSOFT-CDO-ALLDAYEVENT:FALSE
SUMMARY:Hospice 101 - The Benefit and the Myths
DESCRIPTION:Together Present:\n\nHospice 101 - The Benefit an the Myths\n\nAn educational oppurtunity for Caregivers\, Family Members and Professionals. Coffee and pastries will be provided to you. Please RSVP to Bill by calling 715-551-9878 or by emailing BAndres@SanctuaryCaregroup.com
X-ALT-DESC;FMTTYPE=text/html:Together Present:<br />\nHospice 101 - The Benefit an the Myths<br />\nAn educational oppurtunity for Caregivers\, Family Members and Professionals. Coffee and pastries will be provided to you. Please RSVP to Bill by calling 715-551-9878 or by emailing BAndres@SanctuaryCaregroup.com
LOCATION:Tender Reflections 1550 N Country Club Parkway Elkhorn\, Wi
UID:e.2059.4631
SEQUENCE:3
DTSTAMP:20260423T123912Z
URL:https://business.elkhornchamber.com/events/details/hospice-101-the-benefit-and-the-myths-4631
END:VEVENT

END:VCALENDAR
