BEGIN:VCALENDAR
VERSION:2.0
PRODID:-//ChamberMaster//Event Calendar 2.0//EN
METHOD:PUBLISH
X-PUBLISHED-TTL:P3D
REFRESH-INTERVAL:P3D
CALSCALE:GREGORIAN
BEGIN:VEVENT
DTSTART;VALUE=DATE:20180811
DTEND;VALUE=DATE:20180812
TRANSP:TRANSPARENT
X-MICROSOFT-CDO-ALLDAYEVENT:TRUE
SUMMARY:Horse Power Healing Center 2018 Benefit Golf Outing
DESCRIPTION:Support Horse Power Healing Center and enjoy playing golf. HPHC is a 501 (c) 3 non - profit organization. HPHC offers riding programs for adults 65 years and older\, for veterans\, military members and their family members\, for children and adults diagnosed with a terminal illness\, and for children and adults with special needs.
X-ALT-DESC;FMTTYPE=text/html:Support Horse Power Healing Center and enjoy playing golf. HPHC is a 501 (c) 3 non - profit organization. HPHC offers riding programs for adults 65 years and older\, for veterans\, military members and their family members\, for children and adults diagnosed with a terminal illness\, and for children and adults with special needs.
LOCATION:Evergreen Country Club N6426 US Hwy 12 Elkhorn\, WI
UID:e.2059.9130
SEQUENCE:3
DTSTAMP:20260422T035929Z
URL:https://business.elkhornchamber.com/events/details/horse-power-healing-center-2018-benefit-golf-outing-9130
END:VEVENT

END:VCALENDAR
