BEGIN:VCALENDAR
VERSION:2.0
PRODID:-//ChamberMaster//Event Calendar 2.0//EN
METHOD:PUBLISH
X-PUBLISHED-TTL:P3D
REFRESH-INTERVAL:P3D
CALSCALE:GREGORIAN
BEGIN:VEVENT
DTSTART:20181212T003000Z
DTEND:20181212T003000Z
X-MICROSOFT-CDO-ALLDAYEVENT:FALSE
SUMMARY:Hope Now Meeting
DESCRIPTION:Come join Hope Now\, Inc. for thier monthly gathering the 2nd and 4th Tuesday of the month.
X-ALT-DESC;FMTTYPE=text/html:Come join Hope Now\, Inc. for thier monthly gathering the 2nd and 4th Tuesday of the month.
LOCATION:Elkhorn Area Youth Center 420 E. Court Street Elkhorn\, WI
UID:e.2059.9101
SEQUENCE:3
DTSTAMP:20260421T204438Z
URL:https://business.elkhornchamber.com/events/details/hope-now-meeting-12-11-2018-9101
END:VEVENT

END:VCALENDAR
