BEGIN:VCALENDAR
VERSION:2.0
PRODID:-//ChamberMaster//Event Calendar 2.0//EN
METHOD:PUBLISH
X-PUBLISHED-TTL:P3D
REFRESH-INTERVAL:P3D
CALSCALE:GREGORIAN
BEGIN:VEVENT
DTSTART:20180710T233000Z
DTEND:20180710T233000Z
X-MICROSOFT-CDO-ALLDAYEVENT:FALSE
SUMMARY:Hope Now Meeting
DESCRIPTION:Come join Hope Now\, Inc. for thier monthly gathering the 2nd and 4th Tuesday of the month.
X-ALT-DESC;FMTTYPE=text/html:Come join Hope Now\, Inc. for thier monthly gathering the 2nd and 4th Tuesday of the month.
LOCATION:Elkhorn Area Youth Center 420 E. Court Street Elkhorn\, WI
UID:e.2059.9096
SEQUENCE:3
DTSTAMP:20260422T071653Z
URL:https://business.elkhornchamber.com/events/details/hope-now-meeting-07-10-2018-9096
END:VEVENT

END:VCALENDAR
