BEGIN:VCALENDAR
VERSION:2.0
PRODID:-//ChamberMaster//Event Calendar 2.0//EN
METHOD:PUBLISH
X-PUBLISHED-TTL:P3D
REFRESH-INTERVAL:P3D
CALSCALE:GREGORIAN
BEGIN:VEVENT
DTSTART:20180925T233000Z
DTEND:20180925T233000Z
X-MICROSOFT-CDO-ALLDAYEVENT:FALSE
SUMMARY:Hope Now\, Inc. Meetings
DESCRIPTION:Join us for Hope Now\, Inc. monthly gatherings.
X-ALT-DESC;FMTTYPE=text/html:Join us for Hope Now\, Inc. monthly gatherings.
LOCATION:Elkhorn Area Youth Center 420 E. Court Street Elkhorn\, WI
UID:e.2059.9117
SEQUENCE:3
DTSTAMP:20260422T021312Z
URL:https://business.elkhornchamber.com/events/details/hope-now-inc-meetings-09-25-2018-9117
END:VEVENT

END:VCALENDAR
