BEGIN:VCALENDAR
VERSION:2.0
PRODID:-//ChamberMaster//Event Calendar 2.0//EN
METHOD:PUBLISH
X-PUBLISHED-TTL:P3D
REFRESH-INTERVAL:P3D
CALSCALE:GREGORIAN
BEGIN:VEVENT
DTSTART:20181117T170000Z
DTEND:20181117T220000Z
X-MICROSOFT-CDO-ALLDAYEVENT:FALSE
SUMMARY:Home for the Holidays Housewalk
DESCRIPTION:2018 Homes for the Holidays Housewalk\n\nTickets are $10.00\n\nAvailable from an EAWC Member or at Advia Credit Union Elkhorn\, Elkhorn Chamber of Commerce office\, Perk- Up\, Matheson Memorial Library
X-ALT-DESC;FMTTYPE=text/html:2018 Homes for the Holidays Housewalk<br />\nTickets are $10.00<br />\nAvailable from an EAWC Member or at Advia Credit Union Elkhorn\, Elkhorn Chamber of Commerce office\, Perk- Up\, Matheson Memorial Library
LOCATION:Elkhorn Area
UID:e.2059.9575
SEQUENCE:3
DTSTAMP:20260422T002252Z
URL:https://business.elkhornchamber.com/events/details/home-for-the-holidays-housewalk-9575
END:VEVENT

END:VCALENDAR
