BEGIN:VCALENDAR
VERSION:2.0
PRODID:-//ChamberMaster//Event Calendar 2.0//EN
METHOD:PUBLISH
X-PUBLISHED-TTL:P3D
REFRESH-INTERVAL:P3D
CALSCALE:GREGORIAN
BEGIN:VEVENT
DTSTART:20170516T230000Z
DTEND:20170516T230000Z
X-MICROSOFT-CDO-ALLDAYEVENT:FALSE
SUMMARY:Home Buyers Seminar
DESCRIPTION:Get Free Expert advice on the Home buying process. Join us on Tuesday\, May 16th beginning at 6:00pm. Guest Speakers\, Valuable Information and advice\, and complimentary refreshments.
X-ALT-DESC;FMTTYPE=text/html:Get Free Expert advice on the Home buying process. Join us on Tuesday\, May 16th beginning at 6:00pm. Guest Speakers\, Valuable Information and advice\, and complimentary refreshments.
LOCATION:Elkhorn Chamber of Commerce & Tourism Center 203 E. Walworth Street Elkhorn\, Wi 53121
UID:e.2059.5055
SEQUENCE:3
DTSTAMP:20260423T055751Z
URL:https://business.elkhornchamber.com/events/details/home-buyers-seminar-5055
END:VEVENT

END:VCALENDAR
