BEGIN:VCALENDAR
VERSION:2.0
PRODID:-//ChamberMaster//Event Calendar 2.0//EN
METHOD:PUBLISH
X-PUBLISHED-TTL:P3D
REFRESH-INTERVAL:P3D
CALSCALE:GREGORIAN
BEGIN:VEVENT
DTSTART:20161031T220000Z
DTEND:20161101T000000Z
X-MICROSOFT-CDO-ALLDAYEVENT:FALSE
SUMMARY:Holton Manor Trick or Treat
DESCRIPTION:Halloween Trick or Treat at Holton Manor!\n\nMonday from 5-7pm\n\nFree Batman Cupcakes to the First 48 trick or treaters in the "Bat Cave"
X-ALT-DESC;FMTTYPE=text/html:Halloween Trick or Treat at Holton Manor!<br />\nMonday from 5-7pm<br />\nFree Batman Cupcakes to the First 48 trick or treaters in the &quot\;Bat Cave&quot\;
LOCATION:Holton Manor CORE REHAB Therapy Gym 645 N Church St Elkhorn\, Wisconsin
UID:e.2059.4562
SEQUENCE:3
DTSTAMP:20260423T185405Z
URL:https://business.elkhornchamber.com/events/details/holton-manor-trick-or-treat-4562
END:VEVENT

END:VCALENDAR
