BEGIN:VCALENDAR
VERSION:2.0
PRODID:-//ChamberMaster//Event Calendar 2.0//EN
METHOD:PUBLISH
X-PUBLISHED-TTL:P3D
REFRESH-INTERVAL:P3D
CALSCALE:GREGORIAN
BEGIN:VEVENT
DTSTART:20150204T210000Z
DTEND:20150205T020000Z
X-MICROSOFT-CDO-ALLDAYEVENT:FALSE
SUMMARY:Holton Manor Open House
DESCRIPTION:Join Holton Manor at 645 N. Church Street in Elkhorn for an open house to tour their new building featuring\; 14 bed memory care neighborhood\, 17 bed rehabilitation suites\, 29 bed long-term care neighborhood and an aquatic therapy pool.
X-ALT-DESC;FMTTYPE=text/html:Join Holton Manor at 645 N. Church Street in Elkhorn for an open house to tour their new building featuring\; 14 bed memory care neighborhood\, 17 bed rehabilitation suites\, 29 bed long-term care neighborhood and an aquatic therapy pool.
LOCATION:Holton Manor 645 N. Church St.\, Elkhorn
UID:e.2059.810
SEQUENCE:3
DTSTAMP:20260425T040353Z
URL:https://business.elkhornchamber.com/events/details/holton-manor-open-house-02-04-2015-810
END:VEVENT

END:VCALENDAR
