BEGIN:VCALENDAR
VERSION:2.0
PRODID:-//ChamberMaster//Event Calendar 2.0//EN
METHOD:PUBLISH
X-PUBLISHED-TTL:P3D
REFRESH-INTERVAL:P3D
CALSCALE:GREGORIAN
BEGIN:VEVENT
DTSTART:20140719T003000Z
DTEND:20140719T023000Z
X-MICROSOFT-CDO-ALLDAYEVENT:FALSE
SUMMARY:Holton Elkhorn Band
DESCRIPTION:Free open air summer concert series in Sunset Park's historic bandshell performed by Elkhorn's community orchestra. Bring a blanket\, chairs\, family and friend to enjoy an evening of music in the park.
X-ALT-DESC;FMTTYPE=text/html:Free open air summer concert series in Sunset Park&#39\;s historic bandshell performed by Elkhorn&#39\;s community orchestra. Bring a blanket\, chairs\, family and friend to enjoy an evening of music in the park.
LOCATION:Sunset Park Bandshell 200 Devendorf Street\, Elkhorn
UID:e.2059.115
SEQUENCE:3
DTSTAMP:20260425T152010Z
URL:https://business.elkhornchamber.com/events/details/holton-elkhorn-band-07-18-2014-115
END:VEVENT

END:VCALENDAR
