BEGIN:VCALENDAR
VERSION:2.0
PRODID:-//ChamberMaster//Event Calendar 2.0//EN
METHOD:PUBLISH
X-PUBLISHED-TTL:P3D
REFRESH-INTERVAL:P3D
CALSCALE:GREGORIAN
BEGIN:VEVENT
DTSTART:20171210T013000Z
DTEND:20171210T033000Z
X-MICROSOFT-CDO-ALLDAYEVENT:FALSE
SUMMARY:Holton Band Holiday Concert
DESCRIPTION:A free concert by the Holton Elkhorn Community Band. A ticket is needed to enter\, tickets available at The Elkhorn Chamber of Commerce & Tourism Center. Tickets will be available Nov. 1st
X-ALT-DESC;FMTTYPE=text/html:A free concert by the Holton Elkhorn Community Band. A ticket is needed to enter\, tickets available at The Elkhorn Chamber of Commerce &amp\; Tourism Center. Tickets will be available Nov. 1st
LOCATION:Walworth County Performing Arts Center @ 15 W. Walworth Street Elkhorn\, WI 53121
UID:e.2059.1844
SEQUENCE:3
DTSTAMP:20260422T165237Z
URL:https://business.elkhornchamber.com/events/details/holton-band-holiday-concert-12-12-2015-1844
END:VEVENT

END:VCALENDAR
