BEGIN:VCALENDAR
VERSION:2.0
PRODID:-//ChamberMaster//Event Calendar 2.0//EN
METHOD:PUBLISH
X-PUBLISHED-TTL:P3D
REFRESH-INTERVAL:P3D
CALSCALE:GREGORIAN
BEGIN:VEVENT
DTSTART:20161211T013000Z
DTEND:20161211T013000Z
X-MICROSOFT-CDO-ALLDAYEVENT:FALSE
SUMMARY:Holton Band Christmas Concet
DESCRIPTION:More Information to come.
X-ALT-DESC;FMTTYPE=text/html:More Information to come.
LOCATION:
UID:e.2059.4550
SEQUENCE:3
DTSTAMP:20260423T135316Z
URL:https://business.elkhornchamber.com/events/details/holton-band-christmas-concet-4550
END:VEVENT

END:VCALENDAR
