BEGIN:VCALENDAR
VERSION:2.0
PRODID:-//ChamberMaster//Event Calendar 2.0//EN
METHOD:PUBLISH
X-PUBLISHED-TTL:P3D
REFRESH-INTERVAL:P3D
CALSCALE:GREGORIAN
BEGIN:VEVENT
DTSTART:20170715T003000Z
DTEND:20170715T003000Z
X-MICROSOFT-CDO-ALLDAYEVENT:FALSE
SUMMARY:Holton Band at The Band Shell
DESCRIPTION:Join us for a Elkhorn Classic every Friday at The Band Shell starting at 7:30pm\, Featuring The Holton Band!
X-ALT-DESC;FMTTYPE=text/html:Join us for a Elkhorn Classic every Friday at The Band Shell starting at 7:30pm\, Featuring The Holton Band!
LOCATION:200 Devendorf St Elkhorn\, WI 53121
UID:e.2059.4795
SEQUENCE:3
DTSTAMP:20260423T031300Z
URL:https://business.elkhornchamber.com/events/details/holton-band-at-the-band-shell-07-14-2017-4795
END:VEVENT

END:VCALENDAR
