BEGIN:VCALENDAR
VERSION:2.0
PRODID:-//ChamberMaster//Event Calendar 2.0//EN
METHOD:PUBLISH
X-PUBLISHED-TTL:P3D
REFRESH-INTERVAL:P3D
CALSCALE:GREGORIAN
BEGIN:VEVENT
DTSTART;VALUE=DATE:20141115
DTEND;VALUE=DATE:20141117
TRANSP:TRANSPARENT
X-MICROSOFT-CDO-ALLDAYEVENT:TRUE
SUMMARY:Holiday Toy Sales Event
DESCRIPTION:Huge Holiday Sales Savings Event at Walworth County Fairgrounds. Shop unbelievable deals on all kinds of toys and save 50-90% OFF RETAIL. Sell your toys as a consignor and earn up to 70%. Details & Sign up online. Volunteer and shop before the public to get the best deals first.
X-ALT-DESC;FMTTYPE=text/html:Huge Holiday Sales Savings Event at Walworth County Fairgrounds. Shop unbelievable deals on all kinds of toys and&nbsp\;save 50-90% OFF RETAIL. Sell your toys as a consignor and earn up to 70%. Details &amp\; Sign up online. Volunteer and shop before the public to get the best deals first.
LOCATION:Walworth County Fairgrounds
UID:e.2059.757
SEQUENCE:3
DTSTAMP:20260425T104454Z
URL:https://business.elkhornchamber.com/events/details/holiday-toy-sales-event-11-15-2014-757
END:VEVENT

END:VCALENDAR
