BEGIN:VCALENDAR
VERSION:2.0
PRODID:-//ChamberMaster//Event Calendar 2.0//EN
METHOD:PUBLISH
X-PUBLISHED-TTL:P3D
REFRESH-INTERVAL:P3D
CALSCALE:GREGORIAN
BEGIN:VEVENT
DTSTART:20161208T233000Z
DTEND:20161209T013000Z
X-MICROSOFT-CDO-ALLDAYEVENT:FALSE
SUMMARY:Holiday Open House~Peoples Bank
DESCRIPTION:Celebrate the Holidays with Peoples Bank & The Elkhorn Area Chamber of Commerce & Tourism Center for their Holiday Open House/ Business After Hours. More details to be announced.
X-ALT-DESC;FMTTYPE=text/html:Celebrate the Holidays with Peoples Bank &amp\; The Elkhorn Area Chamber of Commerce &amp\; Tourism Center for their Holiday Open House/ Business After Hours. More details to be announced.
LOCATION:Peoples Bank Lobby 837 North Wisconsin St Elkhorn\, Wi
UID:e.2059.1986
SEQUENCE:3
DTSTAMP:20260423T135937Z
URL:https://business.elkhornchamber.com/events/details/holiday-open-house-peoples-bank-12-08-2016-1986
END:VEVENT

END:VCALENDAR
