BEGIN:VCALENDAR
VERSION:2.0
PRODID:-//ChamberMaster//Event Calendar 2.0//EN
METHOD:PUBLISH
X-PUBLISHED-TTL:P3D
REFRESH-INTERVAL:P3D
CALSCALE:GREGORIAN
BEGIN:VEVENT
DTSTART;VALUE=DATE:20151114
DTEND;VALUE=DATE:20151116
TRANSP:TRANSPARENT
X-MICROSOFT-CDO-ALLDAYEVENT:TRUE
SUMMARY:Holiday Open House
DESCRIPTION:Stroll through more than 20 downtown merchants with all kinds of holiday happenings from musicians to authors and artists. So mark your calendars to be sure and make it to this fun and entertaining "preview" to the holiday season.
X-ALT-DESC;FMTTYPE=text/html:Stroll through more than 20 downtown merchants with all kinds of holiday happenings from musicians to authors and artists. So mark your calendars to be sure and make it to this fun and entertaining &quot\;preview&quot\; to the holiday season.
LOCATION:Harbor Shores & Downtown Area 300 Wrigley Dr Lake Geneva
UID:e.2059.1739
SEQUENCE:3
DTSTAMP:20260424T112122Z
URL:https://business.elkhornchamber.com/events/details/holiday-open-house-11-14-2015-1739
END:VEVENT

END:VCALENDAR
