BEGIN:VCALENDAR
VERSION:2.0
PRODID:-//ChamberMaster//Event Calendar 2.0//EN
METHOD:PUBLISH
X-PUBLISHED-TTL:P3D
REFRESH-INTERVAL:P3D
CALSCALE:GREGORIAN
BEGIN:VEVENT
DTSTART:20151204T000000Z
DTEND:20151204T013000Z
X-MICROSOFT-CDO-ALLDAYEVENT:FALSE
SUMMARY:Holiday Help HQ - Holiday Crafts By-the-Book
DESCRIPTION:Join us for a presentation and workshop on creating beautiful paper holiday decorations out of *gasp* repurposed and recycled books! We'll have the materials on-hand for you to make one of your own. Registration required\, please call (262) 723-2678 or visit our website to register.
X-ALT-DESC;FMTTYPE=text/html:<span style="font-family:courier new"><span style="font-size:12.0pt">Join us for a presentation and workshop on creating beautiful paper holiday decorations out of *gasp* repurposed and recycled books! We&#39\;ll have the materials on-hand for you to make one of your own.&nbsp\;</span></span><span style="background-color:rgb(255\, 255\, 255)\; color:rgb(51\, 51\, 51)\; font-family:courier new\; font-size:16px">Registration required\, please call (262) 723-2678 or visit our website to register.</span>
LOCATION:
UID:e.2059.1812
SEQUENCE:3
DTSTAMP:20260424T112835Z
URL:https://business.elkhornchamber.com/events/details/holiday-help-hq-holiday-crafts-by-the-book-12-03-2015-1812
END:VEVENT

END:VCALENDAR
