BEGIN:VCALENDAR
VERSION:2.0
PRODID:-//ChamberMaster//Event Calendar 2.0//EN
METHOD:PUBLISH
X-PUBLISHED-TTL:P3D
REFRESH-INTERVAL:P3D
CALSCALE:GREGORIAN
BEGIN:VEVENT
DTSTART:20151218T000000Z
DTEND:20151218T013000Z
X-MICROSOFT-CDO-ALLDAYEVENT:FALSE
SUMMARY:Holiday Help HQ - Find the Perfect Gift...Locally!
DESCRIPTION:Are you looking for a unique and beautiful gift for someone special? Well\, look no further than right here in the community. Come and hear from our panel of local artists and crafters as they describe their unique creations and products\, and offer them for sale.
X-ALT-DESC;FMTTYPE=text/html:<span style="font-family:courier new"><span style="font-size:12.0pt">Are you looking for a unique and beautiful gift for someone special? Well\, look no further than right here in the community. Come and hear from our panel of local artists and crafters as they describe their unique creations and products\, and offer them for sale.&nbsp\;&nbsp\;</span></span>
LOCATION:
UID:e.2059.1814
SEQUENCE:3
DTSTAMP:20260424T095059Z
URL:https://business.elkhornchamber.com/events/details/holiday-help-hq-find-the-perfect-gift-locally-12-17-2015-1814
END:VEVENT

END:VCALENDAR
