BEGIN:VCALENDAR
VERSION:2.0
PRODID:-//ChamberMaster//Event Calendar 2.0//EN
METHOD:PUBLISH
X-PUBLISHED-TTL:P3D
REFRESH-INTERVAL:P3D
CALSCALE:GREGORIAN
BEGIN:VEVENT
DTSTART:20151211T000000Z
DTEND:20151211T013000Z
X-MICROSOFT-CDO-ALLDAYEVENT:FALSE
SUMMARY:Holiday Help HQ - Easy & Edible Holiday Gifts
DESCRIPTION:Nothing says you care like a gift you make yourself\, especially when it's edible! Join us as we make three easy and tasty recipes that are perfect for giving away this holiday season! Registration required\, please call (262) 723-2678 or visit our website to register.
X-ALT-DESC;FMTTYPE=text/html:<span style="font-family:courier new"><span style="font-size:12.0pt">Nothing says you care like a gift you make yourself\, especially when it&rsquo\;s edible! Join us as we make three easy and tasty recipes that are perfect for giving away this holiday season!&nbsp\;</span></span><span style="background-color:rgb(255\, 255\, 255)\; color:rgb(51\, 51\, 51)\; font-family:courier new\; font-size:16px">Registration required\, please call (262) 723-2678 or visit our website to register.</span>
LOCATION:
UID:e.2059.1813
SEQUENCE:3
DTSTAMP:20260424T095106Z
URL:https://business.elkhornchamber.com/events/details/holiday-help-hq-easy-edible-holiday-gifts-12-10-2015-1813
END:VEVENT

END:VCALENDAR
