BEGIN:VCALENDAR
VERSION:2.0
PRODID:-//ChamberMaster//Event Calendar 2.0//EN
METHOD:PUBLISH
X-PUBLISHED-TTL:P3D
REFRESH-INTERVAL:P3D
CALSCALE:GREGORIAN
BEGIN:VEVENT
DTSTART:20171115T003000Z
DTEND:20171115T020000Z
X-MICROSOFT-CDO-ALLDAYEVENT:FALSE
SUMMARY:Holiday Crafts for Teens
DESCRIPTION:Teens are invited to a seasonal crafting event in the teen area at 6:30pm. Your younger siblings can hang out in the Storyroom and adults may register for adults-only activities in the community room!
X-ALT-DESC;FMTTYPE=text/html:<span style="color:rgb(34\, 34\, 34)\; font-family:arial\,sans-serif\; font-size:12.8px">Teens are invited to a seasonal crafting event in the teen area at&nbsp\;</span><span style="color:rgb(34\, 34\, 34)\; font-family:arial\,sans-serif\; font-size:12.8px">6:30pm</span><span style="color:rgb(34\, 34\, 34)\; font-family:arial\,sans-serif\; font-size:12.8px">. Your younger siblings can hang out in the Storyroom and adults may register for adults-only activities in the community room!</span>
LOCATION:Matheson Memorial Library
UID:e.2059.7221
SEQUENCE:3
DTSTAMP:20260422T195819Z
URL:https://business.elkhornchamber.com/events/details/holiday-crafts-for-teens-7221
END:VEVENT

END:VCALENDAR
