BEGIN:VCALENDAR
VERSION:2.0
PRODID:-//ChamberMaster//Event Calendar 2.0//EN
METHOD:PUBLISH
X-PUBLISHED-TTL:P3D
REFRESH-INTERVAL:P3D
CALSCALE:GREGORIAN
BEGIN:VEVENT
DTSTART:20171115T003000Z
DTEND:20171115T020000Z
X-MICROSOFT-CDO-ALLDAYEVENT:FALSE
SUMMARY:Holiday Crafts for Kids
DESCRIPTION:Kids of all ages and abilities are invited to a seasonal crafting event. Stop by the storyroom to create an ornament!
X-ALT-DESC;FMTTYPE=text/html:<span style="color:rgb(0\, 0\, 0)\; font-family:arial\,helvetica\,sans-serif\; font-size:14px">Kids of all ages and abilities are invited to a seasonal crafting event. Stop by the storyroom to create an ornament!&nbsp\;</span>
LOCATION:Matheson Memorial Library
UID:e.2059.7220
SEQUENCE:3
DTSTAMP:20260422T182936Z
URL:https://business.elkhornchamber.com/events/details/holiday-crafts-for-kids-7220
END:VEVENT

END:VCALENDAR
