BEGIN:VCALENDAR
VERSION:2.0
PRODID:-//ChamberMaster//Event Calendar 2.0//EN
METHOD:PUBLISH
X-PUBLISHED-TTL:P3D
REFRESH-INTERVAL:P3D
CALSCALE:GREGORIAN
BEGIN:VEVENT
DTSTART:20151216T000000Z
DTEND:20151216T010000Z
X-MICROSOFT-CDO-ALLDAYEVENT:FALSE
SUMMARY:Holiday Concert with the Elkhorn Area High School Choir
DESCRIPTION:Tis the Season! Please join us for an unforgettable evening of Holiday favorites and standards performed by members of the Elkhorn Area High School Choir.
X-ALT-DESC;FMTTYPE=text/html:<span style="font-family:courier new"><span style="font-size:12.0pt">Tis the Season! Please join us for an unforgettable evening of Holiday favorites and standards performed by members of the Elkhorn Area High School Choir.</span></span>
LOCATION:
UID:e.2059.1811
SEQUENCE:3
DTSTAMP:20260424T095242Z
URL:https://business.elkhornchamber.com/events/details/holiday-concert-with-the-elkhorn-area-high-school-choir-12-15-2015-1811
END:VEVENT

END:VCALENDAR
