BEGIN:VCALENDAR
VERSION:2.0
PRODID:-//ChamberMaster//Event Calendar 2.0//EN
METHOD:PUBLISH
X-PUBLISHED-TTL:P3D
REFRESH-INTERVAL:P3D
CALSCALE:GREGORIAN
BEGIN:VEVENT
DTSTART:20171203T231500Z
DTEND:20171203T231500Z
X-MICROSOFT-CDO-ALLDAYEVENT:FALSE
SUMMARY:Holiday Celebration: Supporting the Elkhorn Area Youth Center & The Boys & Girls Club of Walworth County
DESCRIPTION:Join us in the Bay for an evening of Holiday Celebration: Supporting The Elkhorn Area Youth Center and The Boys & Girls Club of Walworth County!\n\nArrive by 5:15 to tour the Santa Cause Tree Display\, Santa Cruise will begin at 5:30. Dinner begins in Room 292 at 6:30pm\n\nMenu:\n\nChicken Breast/ Rice Pilaf with Chardonnay Cream Sauce or\n\nBaked Country Pineapple Ham/Sweet Potatoes\n\nTickets includes a Santa Cruise Boat Tour\, Dinner & Entertainment!\n\nTickets are $75.00 per person. Please RSVP to Sue Quinn by emailing her or calling.
X-ALT-DESC;FMTTYPE=text/html:Join us in the Bay for an evening of Holiday Celebration: Supporting The Elkhorn Area Youth Center and The Boys &amp\; Girls Club of Walworth County!<br />\nArrive by 5:15 to tour the Santa Cause Tree Display\, Santa Cruise will begin at 5:30. Dinner begins in Room 292 at 6:30pm<br />\nMenu:<br />\nChicken Breast/ Rice Pilaf with Chardonnay Cream Sauce or<br />\nBaked Country Pineapple Ham/Sweet Potatoes<br />\nTickets includes a Santa Cruise Boat Tour\, Dinner &amp\; Entertainment!<br />\nTickets are $75.00 per person. Please RSVP to Sue Quinn by emailing her or calling.<br />\n&nbsp\;
LOCATION:Pier 290 / Gage Marina 1 Liechty Drive\, Williams Bay\, WI
UID:e.2059.7337
SEQUENCE:3
DTSTAMP:20260422T165903Z
URL:https://business.elkhornchamber.com/events/details/holiday-celebration-supporting-the-elkhorn-area-youth-center-the-boys-girls-club-of-walworth-county-7337
END:VEVENT

END:VCALENDAR
