BEGIN:VCALENDAR
VERSION:2.0
PRODID:-//ChamberMaster//Event Calendar 2.0//EN
METHOD:PUBLISH
X-PUBLISHED-TTL:P3D
REFRESH-INTERVAL:P3D
CALSCALE:GREGORIAN
BEGIN:VEVENT
DTSTART:20170907T233000Z
DTEND:20170908T010000Z
X-MICROSOFT-CDO-ALLDAYEVENT:FALSE
SUMMARY:History of Matheson Memorial Library
DESCRIPTION:Since its founding\, the people of Elkhorn have always valued having a community library\, but the road to having a permanent institution had plenty of twists and turns. Please join us as we present the fascinating history of the Matheson Memorial Library\, and the remarkable men and women who helped make it a reality.
X-ALT-DESC;FMTTYPE=text/html:Since its&nbsp\;founding\, the people of Elkhorn have always valued having a&nbsp\;community library\, but the road to having a permanent&nbsp\;institution had plenty of twists and turns. Please join us&nbsp\;as we present the fascinating history of the Matheson&nbsp\;Memorial Library\, and the remarkable men and women who&nbsp\;helped make it a reality.
LOCATION:
UID:e.2059.5940
SEQUENCE:3
DTSTAMP:20260422T214749Z
URL:https://business.elkhornchamber.com/events/details/history-of-matheson-memorial-library-5940
END:VEVENT

END:VCALENDAR
