BEGIN:VCALENDAR
VERSION:2.0
PRODID:-//ChamberMaster//Event Calendar 2.0//EN
METHOD:PUBLISH
X-PUBLISHED-TTL:P3D
REFRESH-INTERVAL:P3D
CALSCALE:GREGORIAN
BEGIN:VEVENT
DTSTART:20190412T000000Z
DTEND:20190412T010000Z
X-MICROSOFT-CDO-ALLDAYEVENT:FALSE
SUMMARY:History of American Indians of Walworth County
DESCRIPTION:Professor Gulig speaking about History of american indians of Walworth County
X-ALT-DESC;FMTTYPE=text/html:Professor Gulig speaking about History of american indians of Walworth County&nbsp\;
LOCATION:Walwoth County Historical Society 210 S. Washington St
UID:e.2059.10729
SEQUENCE:3
DTSTAMP:20260421T135553Z
URL:https://business.elkhornchamber.com/events/details/history-of-american-indians-of-walworth-county-10729
END:VEVENT

END:VCALENDAR
