BEGIN:VCALENDAR
VERSION:2.0
PRODID:-//ChamberMaster//Event Calendar 2.0//EN
METHOD:PUBLISH
X-PUBLISHED-TTL:P3D
REFRESH-INTERVAL:P3D
CALSCALE:GREGORIAN
BEGIN:VEVENT
DTSTART:20180331T160000Z
DTEND:20180331T190000Z
X-MICROSOFT-CDO-ALLDAYEVENT:FALSE
SUMMARY:Hippity Hoppity Family Fun
DESCRIPTION:Join us as Harbor Shores is hosting a Hippity Hoppity Family Fun Event in our Lighthouse Ballroom that will have a Kid Corner with Crafts & Games\, Balloon Artist\, Easter Bunny & More! Entry Fee is $5 per family at the door. Snacks and drinks will be available for purchase. Hope to see you there!
X-ALT-DESC;FMTTYPE=text/html:<span class="_4n-j _fbReactionComponent__eventDetailsContentTags fsl" data-testid="event-permalink-details">Join us as Harbor Shores is hosting a Hippity Hoppity Family Fun Event in our Lighthouse Ballroom that will have a Kid Corner with Crafts &amp\; Games\, Balloon Artist\, Easter Bunny &amp\; More! Entry Fee is $5 per family at the door. Snacks and drinks will be available for purchase. Hope to see you there!</span>
LOCATION:300 Wrigley Dr (7.94 mi) Lake Geneva\, Wisconsin 53147
UID:e.2059.8656
SEQUENCE:3
DTSTAMP:20260422T114632Z
URL:https://business.elkhornchamber.com/events/details/hippity-hoppity-family-fun-8656
END:VEVENT

END:VCALENDAR
