BEGIN:VCALENDAR
VERSION:2.0
PRODID:-//ChamberMaster//Event Calendar 2.0//EN
METHOD:PUBLISH
X-PUBLISHED-TTL:P3D
REFRESH-INTERVAL:P3D
CALSCALE:GREGORIAN
BEGIN:VEVENT
DTSTART:20170606T233000Z
DTEND:20170607T010000Z
X-MICROSOFT-CDO-ALLDAYEVENT:FALSE
SUMMARY:Hiking the Ice Age Trail -- How to Do It
DESCRIPTION:Our Adult Summer Reading Program kicks off with plenty of outdoor adventure! Hiking is a great way to stay fit and to enjoy nature this summer. Learn from the pros at the Ice Age Trail Alliance how to plan your route\, choose the right equipment\, and enjoy the trail to the fullest! As part of the Adult Summer Reading Program\, each attendee will receive an entry for our end-of-summer grand prize drawing!
X-ALT-DESC;FMTTYPE=text/html:<span style="color:rgb(0\, 0\, 0)\; font-family:arial\; font-size:12px">Our Adult Summer Reading Program kicks off with plenty of outdoor adventure!&nbsp\;Hiking is a great way to stay fit and to enjoy nature this summer. Learn from the pros at the Ice Age Trail Alliance how to plan your route\, choose the right equipment\, and enjoy the trail to the&nbsp\;fullest! As part of the Adult Summer Reading Program\, each attendee will receive an entry for our end-of-summer grand prize drawing!</span>
LOCATION:
UID:e.2059.5086
SEQUENCE:3
DTSTAMP:20260423T060053Z
URL:https://business.elkhornchamber.com/events/details/hiking-the-ice-age-trail-how-to-do-it-5086
END:VEVENT

END:VCALENDAR
